BEGIN:VCALENDAR
VERSION:2.0
PRODID:-//Destination BBQ - ECPv6.15.20//NONSGML v1.0//EN
CALSCALE:GREGORIAN
METHOD:PUBLISH
X-WR-CALNAME:Destination BBQ
X-ORIGINAL-URL:https://destination-bbq.com
X-WR-CALDESC:Events for Destination BBQ
REFRESH-INTERVAL;VALUE=DURATION:PT1H
X-Robots-Tag:noindex
X-PUBLISHED-TTL:PT1H
BEGIN:VTIMEZONE
TZID:America/New_York
BEGIN:DAYLIGHT
TZOFFSETFROM:-0500
TZOFFSETTO:-0400
TZNAME:EDT
DTSTART:20250309T070000
END:DAYLIGHT
BEGIN:STANDARD
TZOFFSETFROM:-0400
TZOFFSETTO:-0500
TZNAME:EST
DTSTART:20251102T060000
END:STANDARD
BEGIN:DAYLIGHT
TZOFFSETFROM:-0500
TZOFFSETTO:-0400
TZNAME:EDT
DTSTART:20260308T070000
END:DAYLIGHT
BEGIN:STANDARD
TZOFFSETFROM:-0400
TZOFFSETTO:-0500
TZNAME:EST
DTSTART:20261101T060000
END:STANDARD
BEGIN:DAYLIGHT
TZOFFSETFROM:-0500
TZOFFSETTO:-0400
TZNAME:EDT
DTSTART:20270314T070000
END:DAYLIGHT
BEGIN:STANDARD
TZOFFSETFROM:-0400
TZOFFSETTO:-0500
TZNAME:EST
DTSTART:20271107T060000
END:STANDARD
END:VTIMEZONE
BEGIN:VEVENT
DTSTART;TZID=America/New_York:20260306T000000
DTEND;TZID=America/New_York:20260307T235959
DTSTAMP:20260421T210822
CREATED:20220324T164641Z
LAST-MODIFIED:20260219T141804Z
UID:10000115-1772755200-1772927999@destination-bbq.com
SUMMARY:Surfside Beach BBQ Festival
DESCRIPTION:Best BBQ on the Beach\n\n\n\nThe annual Town of Surfside Beach Barbecue Festival brings some of the area’s best barbecue together in one spot. \n\n\n\nThe festival kicks off at 4 p.m. Friday with the “Anything but Barbecue” event\, featuring participating vendors’ top non-barbecue dishes. Vendors can cook and sell their “favorite” or “best” non-barbecue dish such as chicken wings\, chili\, or soup. \n\n\n\nThe first day’s festivities wrap up at 7 p.m. \n\n\n\n\n\nThe second day\, including the barbecue competition\, begins at 10 a.m. and runs until 4 p.m. \n\n\n\nSaturday’s events include craft and produce vendors lined up along Surfside Drive. Vendors can sell BBQ and any side items; fries\, onion rings\, chips\, slaw\, beans\, etc. \n\n\n\nThe Surfside Beach BBQ Festival is a “rain or shine” event. \n\n\n\nVendors will offer handmade jewelry and other crafts\, as well as local honey\, jams\, and baked goods. \n\n\n\nLive music will be on hand to entertain fest-goers. \n\n\n\n\n\nEvent Organizer\n\n\n\n\n\n\n\nEvent Location\n\n\n\n\n\n\n\n\n\n\n\nBest Places to Stay Nearby\n\n\n\n\n\n\n\n\n\nWeather Forecast\n\n\n\nSURFSIDE BEACH WEATHER
URL:https://destination-bbq.com/event/surfside-beach-bbq-festival/
LOCATION:Yaupon Parking Lot\, 10 S Yaupon Dr\, Surfside Beach\, SC\, 29575\, United States
CATEGORIES:Festival
ATTACH;FMTTYPE=image/jpeg:https://destination-bbq.com/wp-content/uploads/2022/03/Surfside-Beach-Barbecue-Festival-Logo-1.jpg
GEO:33.6087566;-78.9770378
X-APPLE-STRUCTURED-LOCATION;VALUE=URI;X-ADDRESS=Yaupon Parking Lot 10 S Yaupon Dr Surfside Beach SC 29575 United States;X-APPLE-RADIUS=500;X-TITLE=10 S Yaupon Dr:geo:-78.9770378,33.6087566
END:VEVENT
BEGIN:VEVENT
DTSTART;TZID=America/New_York:20260307T100000
DTEND;TZID=America/New_York:20260307T170000
DTSTAMP:20260421T210822
CREATED:20201218T180120Z
LAST-MODIFIED:20260218T210026Z
UID:10000078-1772877600-1772902800@destination-bbq.com
SUMMARY:Doko Ribfest In The Park (SBN)
DESCRIPTION:Ribs Food Beer Music Fun\n\n\n\nThis is our annual Ribfest here in the park. In recent years\, the event has drawn about 60 teams cooking roughly 6\,000 pounds of ribs. \n\n\n\nWristbands let you sample ribs from any team. Whole racks and rib plates are also available. \n\n\n\nTeams typically set up Friday afternoon\, with ribs distributed early Saturday before the public gates open. \n\n\n\n\n\nWe will have live music playing all day with food trucks and other vendors\, too. Tickets and event updates are available through the Blythewood Chamber of Commerce website. \n\n\n\nEvent updates are shared on Facebook.  Questions about the contest can be directed to the contest organizer (see email in the Event Info section). \n\n\n\n\n\n\n\n\n\nTo the Victor…\n\n\n\nRibfest features three competitive divisions\, with trophies presented to the winners. \n\n\n\nTotal prize money distributed per division as follows: \n\n\n\n\n20 professional teams – $3\,600.00\n\n\n\n30 amateur teams -$2\,700.00\n\n\n\n10 veteran teams – $900.00\n\n\n\n\nThe Rib Cook-Off competition will begin when ribs are distributed at 6:00 am to the contestants on the day of the event in the farmers market field.  \n\n\n\n\n\nCompetitors will have until 1:00 pm to prepare their offerings. SBN judges typically begin judging around 1:00 p.m.\, with winners announced later in the afternoon. \n\n\n\nA fenced-in tented area (with tables\, seating\, and “stand-up” tables) will be provided in the farmers market field for judging and rib tasting. \n\n\n\nWristbands for personal tasting of the competing teams’ offerings are available. You may also purchase a full rack of ribs and/or rib plates (3 ribs\, coleslaw\, and barbecue beans). \n\n\n\n\n\nAmenities\n\n\n\nThe cook-off runs during the day\, and live music continues into the evening at Palmetto Citizens Amphitheater. \n\n\n\nThere will be food trucks\, specialty food\, and sweets vendors\, as well as activity vendors. Vendor spaces may also be available to qualifying local nonprofits at no fee. \n\n\n\nOf course\, there will be beer with an additional fenced-in VIP tented area (with tables\, seating\, and “stand-up” tables) to be provided adjacent to the amphitheater for the enjoyment of the entertainment provided as well as additional food and beverage consumption. \n\n\n\nProceeds support the Chamber economic development initiatives and scholarship programs with a portion to benefit local non-profits: The Big Red Barn Retreat. \n\n\n\n\n\nEvent Organizer\n\n\n\n\n\n\nEvent Location\n\n\n\n\n\n\n\n\n\n\nBest Places to Stay Nearby\n\n\n\n\n\n\n\n\n\nWeather Forecast\n\n\n\nBLYTHEWOOD WEATHER
URL:https://destination-bbq.com/event/doko-ribfest-in-the-park/
LOCATION:Doko Manor\, 100 Alvina Hagood Circle\, Blythewood\, SC\, 29016\, United States
CATEGORIES:Competition
ATTACH;FMTTYPE=image/jpeg:https://destination-bbq.com/wp-content/uploads/2020/12/Doko-Rib-Fest-Blythewood.jpg
GEO:34.217223;-80.9711336
X-APPLE-STRUCTURED-LOCATION;VALUE=URI;X-ADDRESS=Doko Manor 100 Alvina Hagood Circle Blythewood SC 29016 United States;X-APPLE-RADIUS=500;X-TITLE=100 Alvina Hagood Circle:geo:-80.9711336,34.217223
END:VEVENT
BEGIN:VEVENT
DTSTART;TZID=America/New_York:20260314T110000
DTEND;TZID=America/New_York:20260314T140000
DTSTAMP:20260421T210822
CREATED:20200126T021854Z
LAST-MODIFIED:20260218T210152Z
UID:10000072-1773486000-1773496800@destination-bbq.com
SUMMARY:The Little Mountain Mid-Carolina Pigskin Cook-Off (SCBA)
DESCRIPTION:Fundraising is the Reason\n\n\n\nThe Town of Little Mountain and the Mid-Carolina High School football program will host the annual Little Mountain Pigskin Cook-Off. They will hold the cook-off in Reunion Park. \n\n\n\nMid-Carolina Head Coach Chris Arnoult decided to launch the event after having the success of hosting his own barbecue competitions previously.  \n\n\n\nArnoult felt that bringing The Little Mountain Pigskin Cook-Off to Mid-Carolina would help benefit the MCHS football team. \n\n\n\n\n\n“The Little Mountain Pigskin Cook-Off is a fundraiser I started a couple of years ago in Chesterfield\,” Arnoult said. \n\n\n\n“I always felt like I was asking the kids to do things to raise money for the program so I wanted to kind of take the pressure off them a little bit.” \n\n\n\nFundraising is the lifeblood of many school programs across the US\, both for athletics and beyond.  \n\n\n\nWithout the time and effort of fundraising — a common additional burden to students\, athletes\, and their parents — the funds simply would not come from anywhere else and those programs and efforts would suffer. \n\n\n\n\n\nThe Little Mountain Pigskin Cook-Off “will allow us to make improvements to our facilities\, purchase equipment for the guys\, purchase equipment for the weight room\, help with travel and feeding the guys\, buying Gatorade\,” Arnoult said.  \n\n\n\n“Facility and equipment is a large portion of that.” \n\n\n\n\n\nLittle Mountain Pigskin Cook-Off Competition\n\n\n\nThe South Carolina Barbecue Association officially sanctioned the cook-off and will provide the judges. \n\n\n\nThey and the teams will arrive around lunchtime that Friday to set up and begin cooking into the next morning. As the host\, the Little Mountain Pigskin Cook-Off supplies the cookers with a case of Boston Butts. \n\n\n\nThat way all of the meats the cookers use are of equal quality. This provides equanimity\, eliminating a possible advantage for cookers who might otherwise splurge for prime cuts. \n\n\n\n\n\nThe cookers must turn in their entries by 10 a.m. Judges will award prizes to the top five finishers at 2 p.m. Judges score the entries based on presentation\, tenderness\, flavor\, and more. \n\n\n\nFirst place will receive a cash prize of $1\,500 and a trophy (and free entry into next year’s event).  \n\n\n\nSecond place will receive a trophy and $1\,000. Third will receive a trophy and $500. Fourth place will receive a trophy. \n\n\n\nThe Little Mountain Pigskin Cook-Off will also host a People’s Choice Champion where the public will vote on their favorite barbecue\, That winner will receive a trophy and $250. \n\n\n\n\n\nThe Little Mountain Pigskin Cook-Off held rain or shine. Arnoult said when people buy a ticket\, they will be eligible to get a two-ounce sample of each team. \n\n\n\n“I just think it’s a unique way to raise some money for the program and give something enjoyable back to the community also\,” he said. \n\n\n\nCome out and support Mid-Carolina at The Little Mountain Pigskin Cook-Off! \n\n\n\n\n\n\n\n\n\nEvent Organizer\n\n\n\n\n\n\nEvent Location\n\n\n\n\n\n\n\n\n\nBest Places to Stay Nearby\n\n\n\n\n\n\n\nWeather Forecast\n\n\n\nLITTLE MOUNTAIN WEATHER
URL:https://destination-bbq.com/event/little-mountain-pigskin-cook-off-scba/
LOCATION:Little Mountain Park\, State Rd S-36-458\, Little Mountain\, SC\, 29075\, United States
CATEGORIES:Competition,Festival
ATTACH;FMTTYPE=image/jpeg:https://destination-bbq.com/wp-content/uploads/2020/01/Little-Mountain-Pigskin-Cook-Off-1.jpg
GEO:34.190254;-81.4167501
X-APPLE-STRUCTURED-LOCATION;VALUE=URI;X-ADDRESS=Little Mountain Park State Rd S-36-458 Little Mountain SC 29075 United States;X-APPLE-RADIUS=500;X-TITLE=State Rd S-36-458:geo:-81.4167501,34.190254
END:VEVENT
BEGIN:VEVENT
DTSTART;TZID=America/New_York:20260320T000000
DTEND;TZID=America/New_York:20260321T235959
DTSTAMP:20260421T210822
CREATED:20200126T162140Z
LAST-MODIFIED:20260218T211501Z
UID:10000073-1773964800-1774137599@destination-bbq.com
SUMMARY:Benefit BBQ for Boy Scouts (SCBA)
DESCRIPTION:BBQ and Wings\n\n\n\nAre you a fan of barbecue and chicken wings?  \n\n\n\nThen you don’t want to miss the Benefit BBQ for Boy Scouts at the Sumter County Fair Grounds\, hosted by the Pee Dee Area Council’s Henry Shelor District. \n\n\n\nThe Henry Shelor District consists of Sumter\, Lee\, and Clarendon counties. The Council will hold the event at the Fairgrounds Agricultural Building located at 700 West Liberty Street. \n\n\n\n\n\nThe Event\n\n\n\nDuring the two-day event\, patrons who buy 10 tickets for $10 can redeem them for chicken wings (drums and flats)\, hot dogs\, drinks\, and more at “Wing Ding” on Friday night or at the BBQ competition on Saturday. \n\n\n\nAdditional tickets are $1 each. Cook teams serve wings starting when the gates open Friday evening\, and the Wing Ding runs into the night. \n\n\n\nOn Saturday\, the gates open to the public at 11:00 a.m.   \n\n\n\n\n\nPatrons who purchase a wristband will be allowed to roam from station to station to sample BBQ. You will receive a 2-ounce serving of barbecue at each visit.  \n\n\n\nEach time\, you will present your wristband to the Boy Scout assigned to the station you approach. If you wish\, you may visit a station multiple times\, but you must have your wristband on to receive BBQ. \n\n\n\nIndeed\, you may roam from station to station on Saturday until closing or when the BBQ runs out.  For crowd flow\, late entry may be limited in the early afternoon. \n\n\n\n\n\nFor patrons looking to save money\, the Benefit BBQ for Boy Scouts organizers will sell a pass that admits the purchaser all weekend. \n\n\n\nIn short\, all the money raised will go toward funding programs for Cub and Boy Scouts in the Pee Dee Area Council\, which covers 11 counties in Eastern S.C. One of these programs is Camp Coker\, a summer camp in the state. \n\n\n\nOrganizers typically offer a weekend pass option that covers both days. \n\n\n\n\n\nThe Competition\n\n\n\nAs for the competition\, the contestants will present their boxed samples to the SCBA Judges in accordance with association rules. \n\n\n\nThe cookers will prepare the butts received from Henry Shelor District and must have their barbecue ready for public consumption no later than 11:00 a.m. Saturday. Patron samples come in two-ounce cups. \n\n\n\nAt 1 p.m.\, vendors will begin selling barbecue by the pound. The barbecue costs only $5 for a half-pound or $10 for a pound. \n\n\n\n\n\n“It’s $10 for all the barbecue you can sample\,” Glenn Button said. Button serves as the Henry Shelor District chairman and event chairman \n\n\n\nIn addition\, the Benefit BBQ for Boy Scouts will sponsor an optional ribs competition.  Contestants who wish to enter the optional ribs competition assume responsibility for providing their own ribs. \n\n\n\nEach of the participating cook teams oversees the management of the rib competition.  After judging\, participants in the rib event decide what to do with the ribs as they choose.   \n\n\n\nIn fact\, contestants in the rib competition may choose to sell their ribs on-premises to patrons that wish to purchase them.  \n\n\n\n\n\nHowever\, each individual competitor determines their own prices and presentation of ribs for sale. Patrons are welcome to purchase ribs. \n\n\n\nAs part of the competition\, cook teams from around the state and beyond participates each year. In addition\, the event remains a South Carolina Barbeque Association-sanctioned event. \n\n\n\nAs a result\, the SCBA provides judges for the competitions and will determine the winner of the Benefit BBQ for Boy Scouts.  Prizes will be distributed at 2:30 p.m. Saturday. \n\n\n\n\n\nPrizes for the annual Benefit BBQ for Boy Scouts:\n\n\n\n\n$1\,000 BBQ First Place\n\n\n\n$750 BBQ Second Place\n\n\n\n$500 BBQ Third Place\n\n\n\n$250 BBQ Fourth Place\n\n\n\n$100 BBQ Fifth Place\n\n\n\n$250 Wings First Place\n\n\n\n$100 Wings Second Place\n\n\n\n\n\n\nBenefit BBQ for Boy Scouts Sponsors and Extras\n\n\n\nThe event also boasts many sponsors. Despite what many think\, it is virtually impossible to hold such an event without them. Sponsors are essential to the event. \n\n\n\n“I would like to thank all the sponsors\,” Button said. “It wouldn’t be possible without them.” \n\n\n\nVendors will be on hand\, selling water\, sodas\, peanuts\, kettle corn\, and funnel cakes. There will also be a Kona Ice truck selling snow cones. \n\n\n\n\n\n“We’ll also have a children’s activities area\,” Button said. “There will be games\, bounce houses\, and face painting.” \n\n\n\nButton wants patrons to remember what BSA is all about. This is reflected in its mission and goal: \n\n\n\n“The mission of the Boy Scouts of America is to prepare young people to make ethical and moral choices over their lifetimes by instilling in them the values of the Scout Oath and Scout Law. \n\n\n\n\n\nThe BSA’s goal is to train youth in responsible citizenship\, character development\, and self-reliance through participation in a wide range of outdoor activities\, educational programs\, and at older age levels\, career-oriented programs in partnership with community organizations.” \n\n\n\nTickets are typically sold online\, at the gate\, and through local Scouts. \n\n\n\n\n\n\n\n\n\nEvent Organizer\n\n\n\n\n\n\nEvent Location\n\n\n\n\n\n\n\n\n\n\nBest Places to Stay Nearby\n\n\n\n\n\n\n\n\n\n\n\nWeather Forecast\n\n\n\nSUMTER WEATHER
URL:https://destination-bbq.com/event/fourth-annual-benefit-bbq-for-boy-scouts/
LOCATION:Sumter County Fair Grounds\, 700 West Liberty Street\, Sumter\, SC\, 29154\, United States
CATEGORIES:Competition,Festival
ATTACH;FMTTYPE=image/jpeg:https://destination-bbq.com/wp-content/uploads/2020/01/Annual-BBQ-Benefit-For-Boy-Scouts-Sumter-SC.jpg
GEO:33.918502;-80.36282
X-APPLE-STRUCTURED-LOCATION;VALUE=URI;X-ADDRESS=Sumter County Fair Grounds 700 West Liberty Street Sumter SC 29154 United States;X-APPLE-RADIUS=500;X-TITLE=700 West Liberty Street:geo:-80.36282,33.918502
END:VEVENT
BEGIN:VEVENT
DTSTART;TZID=America/New_York:20260327T000000
DTEND;TZID=America/New_York:20260328T235959
DTSTAMP:20260421T210822
CREATED:20190204T003545Z
LAST-MODIFIED:20260218T211706Z
UID:10000049-1774569600-1774742399@destination-bbq.com
SUMMARY:SMOKE AT THE LODGE (SBN)
DESCRIPTION:What to Expect\n\n\n\nSmoke at the Lodge is an annual BBQ cook-off fundraiser. \n\n\n\nThe event features a “No Pork Friday” event where top Pitmasters in the area create a dish with no pork. \n\n\n\nTasting tickets are typically available for purchase. BBQ plates are typically sold to the public featuring championship-style BBQ from the cook-off. Proceeds help support the lodge’s charitable work in the community. \n\n\n\nIt’s a great way to sample BBQ and support the lodge’s local charity efforts. \n\n\n\n\n\nEvent Organizer\n\n\n\n\n\n\nEvent Location\n\n\n\n\n\n\n\n\n\nBest Places to Stay Nearby\n\n\n\n\n\n\n\nWeather Forecast\n\n\n\nSUMMERVILLE WEATHER
URL:https://destination-bbq.com/event/smoke-at-the-lodge-sbn/
LOCATION:Summerville Masonic Lodge\, 111 N Main St\, Summerville\, SC\, 29483\, United States
CATEGORIES:Competition,Festival
ATTACH;FMTTYPE=image/jpeg:https://destination-bbq.com/wp-content/uploads/2019/02/2360635_orig.jpg
GEO:33.0207828;-80.174145
X-APPLE-STRUCTURED-LOCATION;VALUE=URI;X-ADDRESS=Summerville Masonic Lodge 111 N Main St Summerville SC 29483 United States;X-APPLE-RADIUS=500;X-TITLE=111 N Main St:geo:-80.174145,33.0207828
END:VEVENT
BEGIN:VEVENT
DTSTART;TZID=America/New_York:20260328T110000
DTEND;TZID=America/New_York:20260328T140000
DTSTAMP:20260421T210822
CREATED:20220120T001806Z
LAST-MODIFIED:20260218T211747Z
UID:10000104-1774695600-1774706400@destination-bbq.com
SUMMARY:Grillin’ at the Grove (SCBA)
DESCRIPTION:An Annual Event\n\n\n\nWe are looking forward to our Annual Grillin’ at the Grove. The BBQ competition will be held at the Clemson RV Park Event Lawn and Paw Pavilion. This SCBA contest features a pork butt category plus a rib throwdown. \n\n\n\nWristbands are typically sold on site. This will allow you to walk around and sample each contestants BBQ.  \n\n\n\nLive music will begin at 11 am Saturday and play until the winner is announced at 2 pm. \n\n\n\nWe will have drinks and a bounce house for the kids! Come camp and hang out for the weekend! \n\n\n\n\n\n\nOrganizer\n\n\n\n\n\n\nEvent Location\n\n\n\n\n\n\n\n\n\nBest Places to Stay Nearby\n\n\n\n\n\n\n\nWeather Forecast\n\n\n\nPENDLETON WEATHER
URL:https://destination-bbq.com/event/grillin-at-the-grove-scba/
LOCATION:Clemson RV Park\, 150 Dalton Drive\, Pendleton\, SC\, 29670\, United States
CATEGORIES:Competition,Festival
ATTACH;FMTTYPE=image/png:https://destination-bbq.com/wp-content/uploads/2022/01/Grillin-at-the-Grove-Logo.png
GEO:34.6240474;-82.7859254
X-APPLE-STRUCTURED-LOCATION;VALUE=URI;X-ADDRESS=Clemson RV Park 150 Dalton Drive Pendleton SC 29670 United States;X-APPLE-RADIUS=500;X-TITLE=150 Dalton Drive:geo:-82.7859254,34.6240474
END:VEVENT
BEGIN:VEVENT
DTSTART;TZID=America/New_York:20260328T110000
DTEND;TZID=America/New_York:20260328T180000
DTSTAMP:20260421T210822
CREATED:20230205T000146Z
LAST-MODIFIED:20260218T180234Z
UID:10000139-1774695600-1774720800@destination-bbq.com
SUMMARY:Annual Blue and BBQ
DESCRIPTION:Blue & BBQ is an annual fundraising benefit hosted by Historic Mitchelville Freedom Park. The event pairs live music and BBQ with a Modern Cowboy theme\, plus hands-on ways to connect with the history the park preserves. \n\n\n\nGuests can expect an outdoor\, social atmosphere with music and dancing\, BBQ service\, and interactive experiences that often spotlight traditional skills and local history. Cowboy boots\, hats\, and a touch of blue are typically encouraged. \n\n\n\n\n\nWhat to expect\n\n\n\n\nLive music and dancing (often with guided group instruction) \n\n\n\nBBQ and drinks that are typically bundled into admission (all-inclusive style) \n\n\n\nImmersive activities that may include demonstrations (such as blacksmithing) and archaeology-focused experiences tied to the site\n\n\n\nSponsor/table options may be offered for groups and supporters\n\n\n\n\n\n\nWho it supports\n\n\n\nProceeds support Historic Mitchelville Freedom Park’s preservation and education work centered on Mitchelville\, widely recognized as the first self-governed town of formerly enslaved people in the United States\, established in 1862. \n\n\n\n\n\nPlanning notes\n\n\n\n\nDress code: Modern Cowboy is typically encouraged\, especially something blue\n\n\n\nParking/shuttle: In some years\, organizers have offered shuttle options as part of event logistics\n\n\n\nGood to know: This is usually a ticketed benefit with limited capacity and sponsorship options\n\n\n\n\n\n\nOfficial event info and contact\n\n\n\n\nPhone: 843-255-7301\n\n\n\nSponsorship/tables contact: Joyce Wright\n\n\n\n\n\nEvent Location\n\n\n\n\n\nBest Lodging for the Festival\n\n\n\nLodging options appear below. Availability and rates can vary\, so booking earlier is often helpful. \n\n\n\n\n\n\n\n\nWeather Forecast\n\n\n\nHILTON HEAD ISLAND WEATHER
URL:https://destination-bbq.com/event/annual-blue-and-bbq/
LOCATION:Historic Mitchelville Freedom Park\, 40 Harriet Tubman Way\, Hilton Head Island\, SC\, 29226\, United States
ATTACH;FMTTYPE=image/png:https://destination-bbq.com/wp-content/uploads/2023/02/image.png
GEO:32.216316;-80.752608
X-APPLE-STRUCTURED-LOCATION;VALUE=URI;X-ADDRESS=Historic Mitchelville Freedom Park 40 Harriet Tubman Way Hilton Head Island SC 29226 United States;X-APPLE-RADIUS=500;X-TITLE=40 Harriet Tubman Way:geo:-80.752608,32.216316
END:VEVENT
END:VCALENDAR